Package: podkat Version: 1.38.0 Command: /Library/Frameworks/R.framework/Resources/bin/R CMD INSTALL podkat StartedAt: 2025-01-30 15:40:27 -0500 (Thu, 30 Jan 2025) EndedAt: 2025-01-30 15:43:02 -0500 (Thu, 30 Jan 2025) EllapsedTime: 154.9 seconds RetCode: 0 Status: OK