Package: podkat Version: 1.38.0 Command: rm -rf podkat.buildbin-libdir && mkdir podkat.buildbin-libdir && F:\biocbuild\bbs-3.20-bioc\R\bin\R.exe CMD INSTALL --build --library=podkat.buildbin-libdir podkat_1.38.0.tar.gz StartedAt: 2025-01-31 09:17:59 -0500 (Fri, 31 Jan 2025) EndedAt: 2025-01-31 09:20:05 -0500 (Fri, 31 Jan 2025) EllapsedTime: 126.6 seconds RetCode: 0 Status: OK PackageFile: podkat_1.38.0.zip PackageFileSize: 6.831 MiB