Package: podkat Version: 1.38.0 Command: F:\biocbuild\bbs-3.20-bioc\R\bin\R.exe CMD INSTALL podkat StartedAt: 2025-01-30 16:12:07 -0500 (Thu, 30 Jan 2025) EndedAt: 2025-01-30 16:14:04 -0500 (Thu, 30 Jan 2025) EllapsedTime: 117.1 seconds RetCode: 0 Status: OK