Package: polyester Version: 1.42.0 Command: /Library/Frameworks/R.framework/Resources/bin/R CMD INSTALL polyester StartedAt: 2025-02-03 15:21:38 -0500 (Mon, 03 Feb 2025) EndedAt: 2025-02-03 15:22:04 -0500 (Mon, 03 Feb 2025) EllapsedTime: 26.2 seconds RetCode: 0 Status: OK