Package: polyester Version: 1.42.0 Command: /home/biocbuild/R/R/bin/R CMD build --keep-empty-dirs --no-resave-data polyester StartedAt: 2025-02-04 01:53:59 -0000 (Tue, 04 Feb 2025) EndedAt: 2025-02-04 01:54:32 -0000 (Tue, 04 Feb 2025) EllapsedTime: 33.0 seconds RetCode: 0 Status: OK PackageFile: polyester_1.42.0.tar.gz PackageFileSize: 1.814 MiB