Package: polyester
Version: 1.42.0
Command: /home/biocbuild/bbs-3.20-bioc/R/bin/R CMD build --keep-empty-dirs --no-resave-data polyester
StartedAt: 2024-11-19 20:53:37 -0500 (Tue, 19 Nov 2024)
EndedAt: 2024-11-19 20:54:02 -0500 (Tue, 19 Nov 2024)
EllapsedTime: 25.1 seconds
RetCode: 0
Status: OK
PackageFile: polyester_1.42.0.tar.gz
PackageFileSize: 1.814 <A href="http://en.wikipedia.org/wiki/MiB" target="_blank">MiB</A>