Package: powerTCR Version: 1.26.0 Command: /Library/Frameworks/R.framework/Resources/bin/R CMD INSTALL powerTCR StartedAt: 2025-02-03 15:23:32 -0500 (Mon, 03 Feb 2025) EndedAt: 2025-02-03 15:23:43 -0500 (Mon, 03 Feb 2025) EllapsedTime: 10.6 seconds RetCode: 0 Status: OK