Package: powerTCR
Version: 1.26.0
Command: /Library/Frameworks/R.framework/Resources/bin/R CMD INSTALL powerTCR
StartedAt: 2024-11-19 15:07:50 -0500 (Tue, 19 Nov 2024)
EndedAt: 2024-11-19 15:08:17 -0500 (Tue, 19 Nov 2024)
EllapsedTime: 26.1 seconds
RetCode: 0
Status: OK