Package: powerTCR Version: 1.26.0 Command: /Library/Frameworks/R.framework/Resources/bin/R CMD check --install=check:powerTCR.install-out.txt --library=/Library/Frameworks/R.framework/Resources/library --no-vignettes --timings powerTCR_1.26.0.tar.gz StartedAt: 2025-02-04 08:08:36 -0500 (Tue, 04 Feb 2025) EndedAt: 2025-02-04 08:12:33 -0500 (Tue, 04 Feb 2025) EllapsedTime: 236.1 seconds RetCode: 0 Status: WARNINGS CheckDir: powerTCR.Rcheck Warnings: 1