Package: powerTCR Version: 1.26.0 Command: F:\biocbuild\bbs-3.20-bioc\R\bin\R.exe CMD INSTALL powerTCR StartedAt: 2025-02-03 15:41:19 -0500 (Mon, 03 Feb 2025) EndedAt: 2025-02-03 15:41:47 -0500 (Mon, 03 Feb 2025) EllapsedTime: 27.5 seconds RetCode: 0 Status: OK