Package: ppcseq Version: 1.14.0 Command: /Library/Frameworks/R.framework/Resources/bin/R CMD build --keep-empty-dirs --no-resave-data ppcseq StartedAt: 2025-02-04 05:40:52 -0500 (Tue, 04 Feb 2025) EndedAt: 2025-02-04 05:43:07 -0500 (Tue, 04 Feb 2025) EllapsedTime: 134.6 seconds RetCode: 0 Status: OK PackageFile: ppcseq_1.14.0.tar.gz PackageFileSize: 1.938 MiB