Package: ppcseq Version: 1.14.0 Command: /Library/Frameworks/R.framework/Resources/bin/R CMD check --install=check:ppcseq.install-out.txt --library=/Library/Frameworks/R.framework/Resources/library --no-vignettes --timings ppcseq_1.14.0.tar.gz StartedAt: 2025-02-05 05:47:49 -0500 (Wed, 05 Feb 2025) EndedAt: 2025-02-05 05:49:44 -0500 (Wed, 05 Feb 2025) EllapsedTime: 115.2 seconds RetCode: 0 Status: OK CheckDir: ppcseq.Rcheck Warnings: 0