Package: ppcseq Version: 1.14.0 Command: rm -rf ppcseq.buildbin-libdir && mkdir ppcseq.buildbin-libdir && /Users/biocbuild/BBS/utils/build-universal.sh ppcseq_1.14.0.tar.gz /Library/Frameworks/R.framework/Resources/bin/R ppcseq.buildbin-libdir StartedAt: 2025-02-04 13:49:01 -0500 (Tue, 04 Feb 2025) EndedAt: 2025-02-04 13:55:25 -0500 (Tue, 04 Feb 2025) EllapsedTime: 384.4 seconds RetCode: 0 Status: OK PackageFile: ppcseq_1.14.0.tgz PackageFileSize: 2.713 MiB