Package: ppcseq Version: 1.14.0 Command: /Library/Frameworks/R.framework/Resources/bin/R CMD build --keep-empty-dirs --no-resave-data ppcseq StartedAt: 2025-02-03 21:21:54 -0500 (Mon, 03 Feb 2025) EndedAt: 2025-02-03 21:25:54 -0500 (Mon, 03 Feb 2025) EllapsedTime: 240.0 seconds RetCode: 0 Status: OK PackageFile: ppcseq_1.14.0.tar.gz PackageFileSize: 1.938 MiB