Package: ppcseq Version: 1.14.0 Command: rm -rf ppcseq.buildbin-libdir && mkdir ppcseq.buildbin-libdir && F:\biocbuild\bbs-3.20-bioc\R\bin\R.exe CMD INSTALL --build --library=ppcseq.buildbin-libdir ppcseq_1.14.0.tar.gz StartedAt: 2025-02-04 09:12:17 -0500 (Tue, 04 Feb 2025) EndedAt: 2025-02-04 09:18:57 -0500 (Tue, 04 Feb 2025) EllapsedTime: 400.0 seconds RetCode: 0 Status: OK PackageFile: ppcseq_1.14.0.zip PackageFileSize: 2.838 MiB