Package: pram Version: 1.22.0 Command: /Library/Frameworks/R.framework/Resources/bin/R CMD build --keep-empty-dirs --no-resave-data pram StartedAt: 2025-02-03 21:22:07 -0500 (Mon, 03 Feb 2025) EndedAt: 2025-02-03 21:23:40 -0500 (Mon, 03 Feb 2025) EllapsedTime: 93.1 seconds RetCode: 0 Status: OK PackageFile: pram_1.22.0.tar.gz PackageFileSize: 2.666 MiB