Package: pram Version: 1.22.0 Command: rm -rf pram.buildbin-libdir && mkdir pram.buildbin-libdir && F:\biocbuild\bbs-3.20-bioc\R\bin\R.exe CMD INSTALL --build --library=pram.buildbin-libdir pram_1.22.0.tar.gz StartedAt: 2025-02-04 09:12:27 -0500 (Tue, 04 Feb 2025) EndedAt: 2025-02-04 09:13:45 -0500 (Tue, 04 Feb 2025) EllapsedTime: 78.6 seconds RetCode: 0 Status: OK PackageFile: pram_1.22.0.zip PackageFileSize: 2.498 MiB