Package: pram Version: 1.22.0 Command: /home/biocbuild/R/R/bin/R CMD build --keep-empty-dirs --no-resave-data pram StartedAt: 2025-02-04 01:54:53 -0000 (Tue, 04 Feb 2025) EndedAt: 2025-02-04 01:55:48 -0000 (Tue, 04 Feb 2025) EllapsedTime: 55.0 seconds RetCode: 0 Status: OK PackageFile: pram_1.22.0.tar.gz PackageFileSize: 2.667 MiB