Package: prebs
Version: 1.46.0
Command: /home/biocbuild/bbs-3.20-bioc/R/bin/R CMD INSTALL prebs
StartedAt: 2024-11-19 16:49:11 -0500 (Tue, 19 Nov 2024)
EndedAt: 2024-11-19 16:49:38 -0500 (Tue, 19 Nov 2024)
EllapsedTime: 27.4 seconds
RetCode: 0
Status: OK