Package: preciseTAD Version: 1.16.0 Command: rm -rf preciseTAD.buildbin-libdir && mkdir preciseTAD.buildbin-libdir && /Users/biocbuild/BBS/utils/build-universal.sh preciseTAD_1.16.0.tar.gz /Library/Frameworks/R.framework/Resources/bin/R preciseTAD.buildbin-libdir StartedAt: 2025-02-05 17:10:28 -0500 (Wed, 05 Feb 2025) EndedAt: 2025-02-05 17:11:27 -0500 (Wed, 05 Feb 2025) EllapsedTime: 58.9 seconds RetCode: 0 Status: OK PackageFile: preciseTAD_1.16.0.tgz PackageFileSize: 4.803 MiB