Package: preciseTAD Version: 1.16.0 Command: /Library/Frameworks/R.framework/Resources/bin/R CMD build --keep-empty-dirs --no-resave-data preciseTAD StartedAt: 2025-02-04 05:43:12 -0500 (Tue, 04 Feb 2025) EndedAt: 2025-02-04 05:50:44 -0500 (Tue, 04 Feb 2025) EllapsedTime: 451.4 seconds RetCode: 0 Status: OK PackageFile: preciseTAD_1.16.0.tar.gz PackageFileSize: 4.071 MiB