Package: preciseTAD Version: 1.16.0 Command: /Library/Frameworks/R.framework/Resources/bin/R CMD check --install=check:preciseTAD.install-out.txt --library=/Library/Frameworks/R.framework/Resources/library --no-vignettes --timings preciseTAD_1.16.0.tar.gz StartedAt: 2025-02-05 05:53:32 -0500 (Wed, 05 Feb 2025) EndedAt: 2025-02-05 06:07:38 -0500 (Wed, 05 Feb 2025) EllapsedTime: 846.3 seconds RetCode: 0 Status: OK CheckDir: preciseTAD.Rcheck Warnings: 0