Package: preciseTAD Version: 1.16.0 Command: /home/biocbuild/bbs-3.20-bioc/R/bin/R CMD check --install=check:preciseTAD.install-out.txt --library=/home/biocbuild/bbs-3.20-bioc/R/site-library --timings preciseTAD_1.16.0.tar.gz StartedAt: 2025-02-04 01:19:32 -0500 (Tue, 04 Feb 2025) EndedAt: 2025-02-04 01:32:54 -0500 (Tue, 04 Feb 2025) EllapsedTime: 801.8 seconds RetCode: 0 Status: OK CheckDir: preciseTAD.Rcheck Warnings: 0