Package: preciseTAD Version: 1.16.0 Command: /home/biocbuild/bbs-3.20-bioc/R/bin/R CMD INSTALL preciseTAD StartedAt: 2025-02-17 15:52:26 -0500 (Mon, 17 Feb 2025) EndedAt: 2025-02-17 15:53:11 -0500 (Mon, 17 Feb 2025) EllapsedTime: 44.9 seconds RetCode: 0 Status: OK