Package: primirTSS Version: 1.24.0 Command: rm -rf primirTSS.buildbin-libdir && mkdir primirTSS.buildbin-libdir && /Users/biocbuild/BBS/utils/build-universal.sh primirTSS_1.24.0.tar.gz /Library/Frameworks/R.framework/Resources/bin/R primirTSS.buildbin-libdir StartedAt: 2025-02-01 16:15:22 -0500 (Sat, 01 Feb 2025) EndedAt: 2025-02-01 16:16:16 -0500 (Sat, 01 Feb 2025) EllapsedTime: 54.2 seconds RetCode: 0 Status: OK PackageFile: primirTSS_1.24.0.tgz PackageFileSize: 3.832 MiB