Package: primirTSS Version: 1.24.0 Command: /Library/Frameworks/R.framework/Resources/bin/R CMD INSTALL primirTSS StartedAt: 2025-01-30 16:57:21 -0500 (Thu, 30 Jan 2025) EndedAt: 2025-01-30 16:58:09 -0500 (Thu, 30 Jan 2025) EllapsedTime: 47.7 seconds RetCode: 0 Status: OK