Package: primirTSS Version: 1.24.0 Command: /Library/Frameworks/R.framework/Resources/bin/R CMD build --keep-empty-dirs --no-resave-data primirTSS StartedAt: 2025-01-30 21:55:58 -0500 (Thu, 30 Jan 2025) EndedAt: 2025-01-30 21:58:05 -0500 (Thu, 30 Jan 2025) EllapsedTime: 126.7 seconds RetCode: 0 Status: OK PackageFile: primirTSS_1.24.0.tar.gz PackageFileSize: 3.662 MiB