Package: primirTSS Version: 1.24.0 Command: chmod a+r primirTSS -R && F:\biocbuild\bbs-3.20-bioc\R\bin\R.exe CMD build --keep-empty-dirs --no-resave-data primirTSS StartedAt: 2025-01-30 21:05:10 -0500 (Thu, 30 Jan 2025) EndedAt: 2025-01-30 21:06:39 -0500 (Thu, 30 Jan 2025) EllapsedTime: 89.4 seconds RetCode: 0 Status: OK PackageFile: primirTSS_1.24.0.tar.gz PackageFileSize: 3.662 MiB