Package: primirTSS Version: 1.24.0 Command: F:\biocbuild\bbs-3.20-bioc\R\bin\R.exe CMD check --no-multiarch --install=check:primirTSS.install-out.txt --library=F:\biocbuild\bbs-3.20-bioc\R\library --no-vignettes --timings primirTSS_1.24.0.tar.gz StartedAt: 2025-01-31 05:13:32 -0500 (Fri, 31 Jan 2025) EndedAt: 2025-01-31 05:18:54 -0500 (Fri, 31 Jan 2025) EllapsedTime: 321.3 seconds RetCode: 0 Status: WARNINGS CheckDir: primirTSS.Rcheck Warnings: 1