Package: primirTSS Version: 1.24.0 Command: F:\biocbuild\bbs-3.20-bioc\R\bin\R.exe CMD INSTALL primirTSS StartedAt: 2025-01-30 16:20:30 -0500 (Thu, 30 Jan 2025) EndedAt: 2025-01-30 16:22:05 -0500 (Thu, 30 Jan 2025) EllapsedTime: 94.4 seconds RetCode: 0 Status: OK