Package: primirTSS Version: 1.24.0 Command: /home/biocbuild/R/R/bin/R CMD INSTALL primirTSS StartedAt: 2025-01-30 20:45:31 -0000 (Thu, 30 Jan 2025) EndedAt: 2025-01-30 20:46:22 -0000 (Thu, 30 Jan 2025) EllapsedTime: 51.1 seconds RetCode: 0 Status: OK