Package: primirTSS Version: 1.24.0 Command: /home/biocbuild/bbs-3.20-bioc/R/bin/R CMD check --install=check:primirTSS.install-out.txt --library=/home/biocbuild/bbs-3.20-bioc/R/site-library --timings primirTSS_1.24.0.tar.gz StartedAt: 2024-11-20 07:41:04 -0500 (Wed, 20 Nov 2024) EndedAt: 2024-11-20 07:45:04 -0500 (Wed, 20 Nov 2024) EllapsedTime: 239.3 seconds RetCode: 0 Status: WARNINGS CheckDir: primirTSS.Rcheck Warnings: 1