Package: proDA
Version: 1.20.0
Command: /Library/Frameworks/R.framework/Resources/bin/R CMD INSTALL proDA
StartedAt: 2024-11-08 15:16:46 -0500 (Fri, 08 Nov 2024)
EndedAt: 2024-11-08 15:16:54 -0500 (Fri, 08 Nov 2024)
EllapsedTime: 8.3 seconds
RetCode: 0
Status: OK