Package: profileScoreDist Version: 1.34.0 Command: /Library/Frameworks/R.framework/Resources/bin/R CMD check --install=check:profileScoreDist.install-out.txt --library=/Library/Frameworks/R.framework/Resources/library --no-vignettes --timings profileScoreDist_1.34.0.tar.gz StartedAt: 2025-02-04 08:15:19 -0500 (Tue, 04 Feb 2025) EndedAt: 2025-02-04 08:16:14 -0500 (Tue, 04 Feb 2025) EllapsedTime: 54.2 seconds RetCode: 0 Status: OK CheckDir: profileScoreDist.Rcheck Warnings: 0