Package: profileScoreDist Version: 1.33.0 Command: rm -rf profileScoreDist.buildbin-libdir && mkdir profileScoreDist.buildbin-libdir && F:\biocbuild\bbs-3.20-bioc\R\bin\R.exe CMD INSTALL --build --library=profileScoreDist.buildbin-libdir profileScoreDist_1.33.0.tar.gz StartedAt: 2024-06-10 14:38:22 -0400 (Mon, 10 Jun 2024) EndedAt: 2024-06-10 14:39:16 -0400 (Mon, 10 Jun 2024) EllapsedTime: 54.0 seconds RetCode: 0 Status: OK PackageFile: profileScoreDist_1.33.0.zip PackageFileSize: 663 KiB