Package: profileScoreDist Version: 1.34.0 Command: F:\biocbuild\bbs-3.20-bioc\R\bin\R.exe CMD check --no-multiarch --install=check:profileScoreDist.install-out.txt --library=F:\biocbuild\bbs-3.20-bioc\R\library --no-vignettes --timings profileScoreDist_1.34.0.tar.gz StartedAt: 2025-02-04 05:03:46 -0500 (Tue, 04 Feb 2025) EndedAt: 2025-02-04 05:04:40 -0500 (Tue, 04 Feb 2025) EllapsedTime: 54.5 seconds RetCode: 0 Status: OK CheckDir: profileScoreDist.Rcheck Warnings: 0