Package: profileScoreDist
Version: 1.34.0
Command: /home/biocbuild/bbs-3.20-bioc/R/bin/R CMD check --install=check:profileScoreDist.install-out.txt --library=/home/biocbuild/bbs-3.20-bioc/R/site-library --timings profileScoreDist_1.34.0.tar.gz
StartedAt: 2024-11-20 07:42:54 -0500 (Wed, 20 Nov 2024)
EndedAt: 2024-11-20 07:43:16 -0500 (Wed, 20 Nov 2024)
EllapsedTime: 22.0 seconds
RetCode: 0
Status: OK
CheckDir: profileScoreDist.Rcheck
Warnings: 0