Package: profileplyr Version: 1.22.0 Command: /Library/Frameworks/R.framework/Resources/bin/R CMD build --keep-empty-dirs --no-resave-data profileplyr StartedAt: 2025-02-04 05:47:44 -0500 (Tue, 04 Feb 2025) EndedAt: 2025-02-04 05:50:37 -0500 (Tue, 04 Feb 2025) EllapsedTime: 173.2 seconds RetCode: 0 Status: OK PackageFile: profileplyr_1.22.0.tar.gz PackageFileSize: 2.489 MiB