Package: profileplyr Version: 1.22.0 Command: rm -rf profileplyr.buildbin-libdir && mkdir profileplyr.buildbin-libdir && /Users/biocbuild/BBS/utils/build-universal.sh profileplyr_1.22.0.tar.gz /Library/Frameworks/R.framework/Resources/bin/R profileplyr.buildbin-libdir StartedAt: 2025-02-04 13:50:23 -0500 (Tue, 04 Feb 2025) EndedAt: 2025-02-04 13:53:26 -0500 (Tue, 04 Feb 2025) EllapsedTime: 183.7 seconds RetCode: 0 Status: OK PackageFile: profileplyr_1.22.0.tgz PackageFileSize: 2.548 MiB