Package: profileplyr Version: 1.22.0 Command: /home/biocbuild/bbs-3.20-bioc/R/bin/R CMD build --keep-empty-dirs --no-resave-data --md5 profileplyr StartedAt: 2025-02-03 18:47:27 -0500 (Mon, 03 Feb 2025) EndedAt: 2025-02-03 18:49:38 -0500 (Mon, 03 Feb 2025) EllapsedTime: 131.1 seconds RetCode: 0 Status: OK PackageFile: profileplyr_1.22.0.tar.gz PackageFileSize: 2.494 MiB