Package: profileplyr Version: 1.21.0 Command: C:\Users\biocbuild\bbs-3.20-bioc\R\bin\R.exe CMD INSTALL profileplyr StartedAt: 2024-07-15 16:02:31 -0400 (Mon, 15 Jul 2024) EndedAt: 2024-07-15 16:03:39 -0400 (Mon, 15 Jul 2024) EllapsedTime: 68.3 seconds RetCode: 0 Status: OK