Package: profileplyr Version: 1.22.0 Command: F:\biocbuild\bbs-3.20-bioc\R\bin\R.exe CMD INSTALL profileplyr StartedAt: 2025-02-03 17:10:28 -0500 (Mon, 03 Feb 2025) EndedAt: 2025-02-03 17:11:59 -0500 (Mon, 03 Feb 2025) EllapsedTime: 91.9 seconds RetCode: 0 Status: OK