Package: profileplyr Version: 1.22.0 Command: /home/biocbuild/R/R/bin/R CMD build --keep-empty-dirs --no-resave-data profileplyr StartedAt: 2025-02-04 01:56:43 -0000 (Tue, 04 Feb 2025) EndedAt: 2025-02-04 01:59:41 -0000 (Tue, 04 Feb 2025) EllapsedTime: 178.2 seconds RetCode: 0 Status: OK PackageFile: profileplyr_1.22.0.tar.gz PackageFileSize: 2.275 MiB