Package: profileplyr Version: 1.22.0 Command: /home/biocbuild/R/R/bin/R CMD check --install=check:profileplyr.install-out.txt --library=/home/biocbuild/R/R/site-library --no-vignettes --timings profileplyr_1.22.0.tar.gz StartedAt: 2025-02-04 10:00:39 -0000 (Tue, 04 Feb 2025) EndedAt: 2025-02-04 10:09:23 -0000 (Tue, 04 Feb 2025) EllapsedTime: 523.7 seconds RetCode: 0 Status: OK CheckDir: profileplyr.Rcheck Warnings: 0