Package: profileplyr Version: 1.22.0 Command: /home/biocbuild/R/R/bin/R CMD INSTALL profileplyr StartedAt: 2025-02-03 21:09:19 -0000 (Mon, 03 Feb 2025) EndedAt: 2025-02-03 21:10:26 -0000 (Mon, 03 Feb 2025) EllapsedTime: 67.4 seconds RetCode: 0 Status: OK