Package: protGear Version: 1.10.0 Command: rm -rf protGear.buildbin-libdir && mkdir protGear.buildbin-libdir && /Users/biocbuild/BBS/utils/build-universal.sh protGear_1.10.0.tar.gz /Library/Frameworks/R.framework/Resources/bin/R protGear.buildbin-libdir StartedAt: 2025-02-01 16:17:30 -0500 (Sat, 01 Feb 2025) EndedAt: 2025-02-01 16:18:04 -0500 (Sat, 01 Feb 2025) EllapsedTime: 33.8 seconds RetCode: 0 Status: OK PackageFile: protGear_1.10.0.tgz PackageFileSize: 3.936 MiB