Package: protGear Version: 1.10.0 Command: /Library/Frameworks/R.framework/Resources/bin/R CMD check --install=check:protGear.install-out.txt --library=/Library/Frameworks/R.framework/Resources/library --no-vignettes --timings protGear_1.10.0.tar.gz StartedAt: 2025-02-04 08:19:09 -0500 (Tue, 04 Feb 2025) EndedAt: 2025-02-04 08:25:12 -0500 (Tue, 04 Feb 2025) EllapsedTime: 362.3 seconds RetCode: 0 Status: OK CheckDir: protGear.Rcheck Warnings: 0