Package: protGear Version: 1.10.0 Command: /Library/Frameworks/R.framework/Resources/bin/R CMD INSTALL protGear StartedAt: 2025-02-03 16:49:16 -0500 (Mon, 03 Feb 2025) EndedAt: 2025-02-03 16:50:10 -0500 (Mon, 03 Feb 2025) EllapsedTime: 54.0 seconds RetCode: 0 Status: OK