Package: protGear Version: 1.10.0 Command: /home/biocbuild/bbs-3.20-bioc/R/bin/R CMD INSTALL protGear StartedAt: 2025-01-30 16:01:29 -0500 (Thu, 30 Jan 2025) EndedAt: 2025-01-30 16:01:53 -0500 (Thu, 30 Jan 2025) EllapsedTime: 23.7 seconds RetCode: 0 Status: OK