Package: protGear Version: 1.10.0 Command: rm -rf protGear.buildbin-libdir && mkdir protGear.buildbin-libdir && F:\biocbuild\bbs-3.20-bioc\R\bin\R.exe CMD INSTALL --build --library=protGear.buildbin-libdir protGear_1.10.0.tar.gz StartedAt: 2025-01-31 09:19:37 -0500 (Fri, 31 Jan 2025) EndedAt: 2025-01-31 09:20:22 -0500 (Fri, 31 Jan 2025) EllapsedTime: 44.9 seconds RetCode: 0 Status: OK PackageFile: protGear_1.10.0.zip PackageFileSize: 1.829 MiB